Workbook

Sheet Activo
A1: ACTIVO | B1: 44561 | C1: 44926 | D1: 45016 | E1: 45107 | F1: 45199 | G1: 45291 | H1: 45382 | I1: 45473 | J1: 45565 | K1: 45657 | L1: 45747 | M1: 45838 | N1: 45930 | O1: 46022 | P1: 46112 | Q1: 30/6/2026* | R1: 46295
A2: Efectivo | B2: - | C2: - | D2: - | E2: - | F2: - | G2: - | H2: - | I2: - | J2: - | K2: - | L2: - | M2: - | N2: - | O2: - | P2: - | Q2: 2743238.1 | R2: 3919434.3
A3: Cartera de negociación | B3: - | C3: - | D3: - | E3: - | F3: - | G3: - | H3: - | I3: - | J3: - | K3: - | L3: - | M3: - | N3: - | O3: - | P3: - | Q3: - | R3: -
A4: Valores representativos de deuda | B4: - | C4: - | D4: - | E4: - | F4: - | G4: - | H4: - | I4: - | J4: - | K4: - | L4: - | M4: - | N4: - | O4: - | P4: - | Q4: - | R4: -
A5: Instrumentos de capital | B5: - | C5: - | D5: - | E5: - | F5: - | G5: - | H5: - | I5: - | J5: - | K5: - | L5: - | M5: - | N5: - | O5: - | P5: - | Q5: - | R5: -
A6: Derivados de negociación | B6: - | C6: - | D6: - | E6: - | F6: - | G6: - | H6: - | I6: - | J6: - | K6: - | L6: - | M6: - | N6: - | O6: - | P6: - | Q6: - | R6: -
A7: Otros activos financieros | B7: - | C7: - | D7: - | E7: - | F7: - | G7: - | H7: - | I7: - | J7: - | K7: - | L7: - | M7: - | N7: - | O7: - | P7: - | Q7: - | R7: -
A8: Pro-memoria: Prestados o en garantía | B8: - | C8: - | D8: - | E8: - | F8: - | G8: - | H8: - | I8: - | J8: - | K8: - | L8: - | M8: - | N8: - | O8: - | P8: - | Q8: - | R8: -
A9: Otros activos financieros a valor razonable con cambios en pérdidas y ganancias | B9: - | C9: - | D9: - | E9: - | F9: - | G9: - | H9: - | I9: - | J9: - | K9: - | L9: - | M9: - | N9: - | O9: - | P9: - | Q9: - | R9: -
A10: Valores representativos de deuda | B10: - | C10: - | D10: - | E10: - | F10: - | G10: - | H10: - | I10: - | J10: - | K10: - | L10: - | M10: - | N10: - | O10: - | P10: - | Q10: - | R10: -
A11: Instrumentos de capital | B11: - | C11: - | D11: - | E11: - | F11: - | G11: - | H11: - | I11: - | J11: - | K11: - | L11: - | M11: - | N11: - | O11: - | P11: - | Q11: - | R11: -
A12: Otros activos financieros | B12: - | C12: - | D12: - | E12: - | F12: - | G12: - | H12: - | I12: - | J12: - | K12: - | L12: - | M12: - | N12: - | O12: - | P12: - | Q12: - | R12: -
A13: Pro-memoria: Prestados o en garantía | B13: - | C13: - | D13: - | E13: - | F13: - | G13: - | H13: - | I13: - | J13: - | K13: - | L13: - | M13: - | N13: - | O13: - | P13: - | Q13: - | R13: -
A14: Cartera valorada a valor razonable con cambios en patrimonio neto | B14: 137470.81 | C14: 252550.36 | D14: 253550.36 | E14: 256736.16 | F14: 307114.44 | G14: 251075.96 | H14: 252075.96 | I14: 509797.78 | J14: 771711.46 | K14: 781459.19 | L14: 871479 | M14: 891856.94 | N14: 902466.82 | O14: 1088186.7 | P14: 1300126.8 | Q14: 1806794.4 | R14: 1833641.1
A15: Valores representativos de deuda | B15: - | C15: - | D15: - | E15: - | F15: - | G15: - | H15: - | I15: - | J15: - | K15: - | L15: - | M15: - | N15: - | O15: - | P15: - | Q15: - | R15: -
A16: Instrumentos de capital | B16: 137470.81 | C16: 252550.36 | D16: 253550.36 | E16: 256736.16 | F16: 307114.44 | G16: 251075.96 | H16: 252075.96 | I16: 509797.78 | J16: 771711.46 | K16: 781459.19 | L16: 871479 | M16: 891856.94 | N16: 902466.82 | O16: 1088186.7 | P16: 1300126.8 | Q16: 1806794.4 | R16: 1833641.1
A17: Pro-memoria: Prestados o en garantía | B17: - | C17: - | D17: - | E17: - | F17: - | G17: - | H17: - | I17: - | J17: - | K17: - | L17: - | M17: - | N17: - | O17: - | P17: - | Q17: - | R17: -
A18: Cartera valorada a coste amortizado: inversiones crediticias | B18: 1844864.6 | C18: 2396728.7 | D18: 2641107.9 | E18: 2530571.4 | F18: 2637027.2 | G18: 3076108.2 | H18: 3067389.6 | I18: 2917358 | J18: 3052526.6 | K18: 3630869 | L18: 3482105.2 | M18: 4119117.5 | N18: 4765724.7 | O18: 6147115.5 | P18: 5843505.9 | Q18: 4250281 | R18: 4640208.9
A19: Crédito a intermediarios financieros | B19: 988365.38 | C19: 1333835.3 | D19: 1555380.4 | E19: 1368515.8 | F19: 1379298.4 | G19: 1950602.7 | H19: 1819833.7 | I19: 1560737.8 | J19: 1560792 | K19: 1992780.4 | L19: 1735853.2 | M19: 2254126.3 | N19: 2586341.2 | O19: 3202163.4 | P19: 2665134.6 | Q19: 560672.65 | R19: 574962.66
A20: Crédito a particulares | B20: 856499.27 | C20: 1062893.4 | D20: 1085727.5 | E20: 1162055.7 | F20: 1257728.8 | G20: 1125505.5 | H20: 1247555.9 | I20: 1356620.2 | J20: 1491734.6 | K20: 1638088.5 | L20: 1746252 | M20: 1864991.2 | N20: 2179383.5 | O20: 2944952.1 | P20: 3178371.3 | Q20: 3689608.3 | R20: 4065246.2
A21: Otros activos financieros | B21: - | C21: - | D21: - | E21: - | F21: - | G21: - | H21: - | I21: - | J21: - | K21: - | L21: - | M21: - | N21: - | O21: - | P21: - | Q21: - | R21: -
A22: Cartera valorada a coste amortizado: inversiones a vencimiento | B22: - | C22: - | D22: - | E22: - | F22: - | G22: - | H22: - | I22: - | J22: - | K22: - | L22: - | M22: - | N22: - | O22: - | P22: - | Q22: - | R22: -
A23: Pro-memoria: Prestados o en garantía | B23: - | C23: - | D23: - | E23: - | F23: - | G23: - | H23: - | I23: - | J23: - | K23: - | L23: - | M23: - | N23: - | O23: - | P23: - | Q23: - | R23: -
A24: Derivados de cobertura | B24: - | C24: - | D24: - | E24: - | F24: - | G24: - | H24: - | I24: - | J24: - | K24: - | L24: - | M24: - | N24: - | O24: - | P24: - | Q24: - | R24: -
A25: Cartera valorada a coste | B25: - | C25: - | D25: - | E25: - | F25: - | G25: - | H25: - | I25: - | J25: - | K25: - | L25: - | M25: - | N25: - | O25: - | P25: - | Q25: - | R25: -
A26: Valores representativos de deuda | B26: - | C26: - | D26: - | E26: - | F26: - | G26: - | H26: - | I26: - | J26: - | K26: - | L26: - | M26: - | N26: - | O26: - | P26: - | Q26: - | R26: -
A27: Instrumentos de capital | B27: - | C27: - | D27: - | E27: - | F27: - | G27: - | H27: - | I27: - | J27: - | K27: - | L27: - | M27: - | N27: - | O27: - | P27: - | Q27: - | R27: -
A28: Participaciones | B28: - | C28: - | D28: - | E28: - | F28: - | G28: - | H28: - | I28: - | J28: - | K28: - | L28: - | M28: - | N28: - | O28: - | P28: - | Q28: - | R28: -
A29: Entidades multigrupo | B29: - | C29: - | D29: - | E29: - | F29: - | G29: - | H29: - | I29: - | J29: - | K29: - | L29: - | M29: - | N29: - | O29: - | P29: - | Q29: - | R29: -
A30: Entidades asociadas | B30: - | C30: - | D30: - | E30: - | F30: - | G30: - | H30: - | I30: - | J30: - | K30: - | L30: - | M30: - | N30: - | O30: - | P30: - | Q30: - | R30: -
A31: Contratos de seguros vinculados a pensiones | B31: - | C31: - | D31: - | E31: - | F31: - | G31: - | H31: - | I31: - | J31: - | K31: - | L31: - | M31: - | N31: - | O31: - | P31: - | Q31: - | R31: -
A32: Activos por reaseguros | B32: - | C32: - | D32: - | E32: - | F32: - | G32: - | H32: - | I32: - | J32: - | K32: - | L32: - | M32: - | N32: - | O32: - | P32: - | Q32: - | R32: -
A33: Activo material | B33: 19393.45 | C33: 76225.77 | D33: 86834.36 | E33: 88928.71 | F33: 89326.01 | G33: 83736.96 | H33: 87299.57 | I33: 81222.26 | J33: 74493.2 | K33: 67319.99 | L33: 59767.46 | M33: 55488.48 | N33: 50034.05 | O33: 43593 | P33: 56370.86 | Q33: 93958.77 | R33: 86058.193
A34: De uso propio | B34: 19393.45 | C34: 76225.77 | D34: 86834.36 | E34: 88928.71 | F34: 89326.01 | G34: 83736.96 | H34: 87299.57 | I34: 81222.26 | J34: 74493.2 | K34: 67319.99 | L34: 59767.46 | M34: 55488.48 | N34: 50034.05 | O34: 43593 | P34: 56370.86 | Q34: 73898.67 | R34: 71816.51
A35: Activos por derechos de uso | B35: - | C35: - | D35: - | E35: - | F35: - | G35: - | H35: - | I35: - | J35: - | K35: - | L35: - | M35: - | N35: - | O35: - | P35: - | Q35: 20060.1 | R35: 14241.683
A36: Inversiones inmobiliarias | B36: - | C36: - | D36: - | E36: - | F36: - | G36: - | H36: - | I36: - | J36: - | K36: - | L36: - | M36: - | N36: - | O36: - | P36: - | Q36: - | R36: -
A37: Activo intangible | B37: 194933.97 | C37: 102828.68 | D37: 78940.84 | E37: 55280.75 | F37: 39181.84 | G37: 28664.94 | H37: 689250.22 | I37: 683683.75 | J37: 678928.03 | K37: 756715.61 | L37: 751413.53 | M37: 767251.32 | N37: 762235.27 | O37: 751777.16 | P37: 636871.36 | Q37: 738070.3 | R37: 718313.86
A38: Fondo de comercio | B38: - | C38: - | D38: - | E38: - | F38: - | G38: - | H38: 162895.49 | I38: 162895.49 | J38: 162895.49 | K38: 107333.9 | L38: 107333.9 | M38: 101288.47 | N38: 101288.47 | O38: 95243.044 | P38: 0 | Q38: 120908.52 | R38: 120908.52
A39: Otro activo intangible | B39: 194933.97 | C39: 102828.68 | D39: 78940.84 | E39: 55280.75 | F39: 39181.84 | G39: 28664.94 | H39: 526354.73 | I39: 520788.26 | J39: 516032.54 | K39: 649381.71 | L39: 644079.63 | M39: 665962.85 | N39: 660946.8 | O39: 656534.12 | P39: 636871.36 | Q39: 617161.78 | R39: 597405.34
A40: Activos fiscales | B40: 19827.37 | C40: 9529.43 | D40: 9529.43 | E40: 38311.98 | F40: 7242.84 | G40: 9612.43 | H40: 63892.16 | I40: 13051.36 | J40: 1510.29 | K40: 18205.22 | L40: 1429.66 | M40: 151572.32 | N40: 55010.85 | O40: 130072.34 | P40: 137495.48 | Q40: 190286.86 | R40: 202013.09
...

Sheet Pasivo
A1: PASIVO Y PATRIMONIO NETO | B1: 44561 | C1: 44926 | D1: 45016 | E1: 45107 | F1: 45199 | G1: 45291 | H1: 45382 | I1: 45473 | J1: 45565 | K1: 45657 | L1: 45747 | M1: 45838 | N1: 45930 | O1: 46022 | P1: 46112 | Q1: 30/6/2026* | R1: 46295
A2: Cartera de negociación | B2: - | C2: - | D2: - | E2: - | F2: - | G2: - | H2: - | I2: - | J2: - | K2: - | L2: - | M2: - | N2: - | O2: - | P2: - | Q2: - | R2: -
A3: Derivados de negociación | B3: - | C3: - | D3: - | E3: - | F3: - | G3: - | H3: - | I3: - | J3: - | K3: - | L3: - | M3: - | N3: - | O3: - | P3: - | Q3: - | R3: -
A4: Posiciones cortas de valores | B4: - | C4: - | D4: - | E4: - | F4: - | G4: - | H4: - | I4: - | J4: - | K4: - | L4: - | M4: - | N4: - | O4: - | P4: - | Q4: - | R4: -
A5: Otros pasivos financieros | B5: - | C5: - | D5: - | E5: - | F5: - | G5: - | H5: - | I5: - | J5: - | K5: - | L5: - | M5: - | N5: - | O5: - | P5: - | Q5: - | R5: -
A6: Otros pasivos financieros a valor razonable con cambios en pérdidas y ganancias | B6: - | C6: - | D6: - | E6: - | F6: - | G6: - | H6: - | I6: - | J6: - | K6: - | L6: - | M6: - | N6: - | O6: - | P6: - | Q6: - | R6: -
A7: Pasivos financieros a coste amortizado | B7: 888544.2 | C7: 792308.41 | D7: 822141.96 | E7: 682680.73 | F7: 632812.71 | G7: 632505.31 | H7: 1102894.4 | I7: 1097285.2 | J7: 956458.59 | K7: 1271539.3 | L7: 497373.42 | M7: 666547.38 | N7: 768409.01 | O7: 1044960.2 | P7: 567056 | Q7: 762618.64 | R7: 596751.02
A8: Deudas con intermediarios financieros | B8: 57877.51 | C8: 60103.67 | D8: 63545.35 | E8: 66095.45 | F8: 21268.62 | G8: 52919.43 | H8: 108701.45 | I8: 173199.63 | J8: 606315.7 | K8: 877940.38 | L8: 190078.47 | M8: 366901.71 | N8: 564147.32 | O8: 766441.46 | P8: 210622.25 | Q8: 320259.03 | R8: 331236.37
A9: Deudas con particulares | B9: 830666.69 | C9: 732204.74 | D9: 758596.61 | E9: 616585.28 | F9: 611544.09 | G9: 579585.88 | H9: 994192.92 | I9: 924085.54 | J9: 350142.89 | K9: 393598.95 | L9: 307294.95 | M9: 299645.67 | N9: 204261.69 | O9: 278518.73 | P9: 356433.75 | Q9: 442359.61 | R9: 265514.65
A10: Empréstitos y pasivos subordinados | B10: - | C10: - | D10: - | E10: - | F10: - | G10: - | H10: - | I10: - | J10: - | K10: - | L10: - | M10: - | N10: - | O10: - | P10: - | Q10: - | R10: -
A11: Otros pasivos financieros | B11: - | C11: - | D11: - | E11: - | F11: - | G11: - | H11: - | I11: - | J11: - | K11: - | L11: - | M11: - | N11: - | O11: - | P11: - | Q11: - | R11: -
A12: Pasivos por arrendamientos | B12: - | C12: - | D12: - | E12: - | F12: - | G12: - | H12: - | I12: - | J12: - | K12: - | L12: - | M12: - | N12: - | O12: - | P12: - | Q12: 22486.45 | R12: 15848.684
A13: Derivados de cobertura | B13: - | C13: - | D13: - | E13: - | F13: - | G13: - | H13: - | I13: - | J13: - | K13: - | L13: - | M13: - | N13: - | O13: - | P13: - | Q13: - | R13: -
A14: Pasivos asociados con activos no corrientes en venta | B14: - | C14: - | D14: - | E14: - | F14: - | G14: - | H14: - | I14: - | J14: - | K14: - | L14: - | M14: - | N14: - | O14: - | P14: - | Q14: - | R14: -
A15: Pasivos por contratos de seguros | B15: - | C15: - | D15: - | E15: - | F15: - | G15: - | H15: - | I15: - | J15: - | K15: - | L15: - | M15: - | N15: - | O15: - | P15: - | Q15: - | R15: -
A16: Provisiones | B16: - | C16: - | D16: - | E16: - | F16: - | G16: - | H16: 1321 | I16: 1321 | J16: 1321 | K16: - | L16: - | M16: - | N16: - | O16: - | P16: - | Q16: - | R16: -
A17: Fondos para pensiones y obligaciones similares | B17: - | C17: - | D17: - | E17: - | F17: - | G17: - | H17: - | I17: - | J17: - | K17: - | L17: - | M17: - | N17: - | O17: - | P17: - | Q17: - | R17: -
A18: Provisiones para impuestos y otras contingencias legales | B18: - | C18: - | D18: - | E18: - | F18: - | G18: - | H18: 1321 | I18: 1321 | J18: 1321 | K18: - | L18: - | M18: - | N18: - | O18: - | P18: - | Q18: - | R18: -
A19: Otras provisiones | B19: - | C19: - | D19: - | E19: - | F19: - | G19: - | H19: - | I19: - | J19: - | K19: - | L19: - | M19: - | N19: - | O19: - | P19: - | Q19: - | R19: -
A20: Pasivos fiscales | B20: 140299.49 | C20: 186343.23 | D20: 204281.43 | E20: 223611.42 | F20: 233414.9 | G20: 462607.3 | H20: 494136.36 | I20: 598005.76 | J20: 591304.8 | K20: 655365.55 | L20: 855822.18 | M20: 1158773.2 | N20: 949615.75 | O20: 510723.69 | P20: 717309.28 | Q20: 1117705.2 | R20: 1144467.1
A21: Corrientes | B21: 140299.49 | C21: 186343.23 | D21: 204281.43 | E21: 223611.42 | F21: 233414.9 | G21: 462607.3 | H21: 494136.36 | I21: 598005.76 | J21: 591304.8 | K21: 655365.55 | L21: 855822.18 | M21: 1158773.2 | N21: 949615.75 | O21: 510723.69 | P21: 710808.97 | Q21: 1109877.3 | R21: 1135063.3
A22: Diferidos | B22: - | C22: - | D22: - | E22: - | F22: - | G22: - | H22: - | I22: - | J22: - | K22: - | L22: - | M22: - | N22: - | O22: - | P22: 6500.31 | Q22: 7827.94 | R22: 9403.76
A23: Resto de pasivos | B23: 54762.43 | C23: 68620.75 | D23: 64578.37 | E23: 82027.06 | F23: 90787.54 | G23: 82198.78 | H23: 94615.32 | I23: 140482.56 | J23: 133209.36 | K23: 133827.8 | L23: 133973.22 | M23: 153124.88 | N23: 143583.35 | O23: 1004114.7 | P23: 623044.82 | Q23: 761532.57 | R23: 779723
A24: TOTAL PASIVO | B24: 1083606.1 | C24: 1047272.4 | D24: 1091001.8 | E24: 988319.21 | F24: 957015.15 | G24: 1177311.4 | H24: 1692967.1 | I24: 1837094.5 | J24: 1682293.8 | K24: 2060732.7 | L24: 1487168.8 | M24: 1978445.4 | N24: 1861608.1 | O24: 2559798.6 | P24: 1907410.1 | Q24: 2664342.9 | R24: 2536789.8
A25: FONDOS PROPIOS | B25: 1766718.3 | C25: 2248040 | D25: 2401607.5 | E25: 2325733.7 | F25: 2479522.9 | G25: 2478598.8 | H25: 2639411 | I25: 2509590.7 | J25: 3011666.4 | K25: 3208579 | L25: 3703022.8 | M25: 4204047.1 | N25: 4847614.9 | O25: 5650305.2 | P25: 6214993.7 | Q25: 7449867.9 | R25: 9023170.2
A26: Capital | B26: 145483 | C26: 145483 | D26: 145483 | E26: 145483 | F26: 145483 | G26: 145483 | H26: 145483 | I26: 145483 | J26: 145483 | K26: 145483 | L26: 145483 | M26: 145548.4 | N26: 145548.4 | O26: 145548.4 | P26: 145548.4 | Q26: 145548.4 | R26: 145548.4
A27: Escriturado | B27: 145483 | C27: 145483 | D27: 145483 | E27: 145483 | F27: 145483 | G27: 145483 | H27: 145483 | I27: 145483 | J27: 145483 | K27: 145483 | L27: 145483 | M27: 145548.4 | N27: 145548.4 | O27: 145548.4 | P27: 145548.4 | Q27: 145548.4 | R27: 145548.4
A28: Menos: Capital no exigido (-) | B28: - | C28: - | D28: - | E28: - | F28: - | G28: - | H28: - | I28: - | J28: - | K28: - | L28: - | M28: - | N28: - | O28: - | P28: - | Q28: - | R28: -
A29: Prima de emisión | B29: 4753310.5 | C29: 4753310.5 | D29: 4753310.5 | E29: 4753310.5 | F29: 4753310.5 | G29: 4753310.5 | H29: 4753310.5 | I29: 4753310.5 | J29: 4753310.5 | K29: 4753310.5 | L29: 4753310.5 | M29: 4822565.1 | N29: 4822565.1 | O29: 4822565.1 | P29: 4822565.1 | Q29: 4822565.1 | R29: 4822565.1
A30: Reservas / (pérdidas acumuladas) (+/-) | B30: -3405976.7 | C30: -3046327.8 | D30: -2629809.3 | E30: -2629809.3 | F30: -2622219.7 | G30: -2637469.5 | H30: -2230349.8 | I30: -2234469.3 | J30: -2230898.4 | K30: -2254442.6 | L30: -1497784.4 | M30: -1425117.7 | N30: -1422952.9 | O30: -1350889.8 | P30: 1000257.4 | Q30: 995247.03 | R30: 1056753.7
A31: Reservas (pérdidas) de entidades valoradas por el método de la participación (+/-) | B31: - | C31: - | D31: - | E31: - | F31: - | G31: - | H31: - | I31: - | J31: - | K31: - | L31: - | M31: - | N31: - | O31: - | P31: - | Q31: - | R31: -
A32: Otros instrumentos de capital | B32: - | C32: - | D32: - | E32: - | F32: - | G32: - | H32: - | I32: - | J32: - | K32: - | L32: - | M32: - | N32: - | O32: - | P32: - | Q32: - | R32: -
A33: Menos: Valores propios (-) | B33: -120 | C33: - | D33: - | E33: -149844.4 | F33: -181288.8 | G33: -191408.15 | H33: -224450.55 | I33: -355994.8 | J33: -182001.6 | K33: -200766.5 | L33: -199725.23 | M33: -261046.8 | N33: -287760.03 | O33: -340472.4 | P33: -374553.6 | Q33: -453330.89 | R33: -507608.57
A34: Resultado del ejercicio atribuido a la entidad dominante (+/-) | B34: 274021.55 | C34: 395574.29 | D34: 132623.28 | E34: 206593.92 | F34: 384237.94 | G34: 408682.99 | H34: 195417.87 | I34: 201261.28 | J34: 525772.95 | K34: 764994.53 | L34: 501738.91 | M34: 922098.14 | N34: 1590214.3 | O34: 2373553.9 | P34: 621176.37 | Q34: 1939838.2 | R34: 3505911.5
A35: Menos: Dividendos y retribuciones (-) | B35: - | C35: - | D35: - | E35: - | F35: - | G35: - | H35: - | I35: - | J35: - | K35: - | L35: - | M35: - | N35: - | O35: - | P35: - | Q35: - | R35: -
A36: AJUSTES POR VALORACIÓN | B36: 6160.09 | C36: 1131.08 | D36: 1131.08 | E36: 6144.39 | F36: 6144.39 | G36: 4793.16 | H36: 7384.05 | I36: 11209.47 | J36: 16184.68 | K36: 22153.72 | L36: 22860.91 | M36: 9238.8 | N36: 11415.33 | O36: 13596.7 | P36: 15684.27 | Q36: 15865.65 | R36: 19828.81
A37: Activos financieros a valor razonable con cambios en patrimonio neto (+/-) | B37: 6160.09 | C37: 1131.08 | D37: 1131.08 | E37: 6144.39 | F37: 6144.39 | G37: 4793.16 | H37: 7384.05 | I37: 11209.47 | J37: 16184.68 | K37: 22153.72 | L37: 22860.91 | M37: 9238.8 | N37: 11415.33 | O37: 13596.7 | P37: 15684.27 | Q37: 15865.65 | R37: 19828.81
A38: Coberturas de los flujos de efectivo (+/-) | B38: - | C38: - | D38: - | E38: - | F38: - | G38: - | H38: - | I38: - | J38: - | K38: - | L38: - | M38: - | N38: - | O38: - | P38: - | Q38: - | R38: -
A39: Coberturas de inversiones netas en negocios en el extranjero (+/-) | B39: - | C39: - | D39: - | E39: - | F39: - | G39: - | H39: - | I39: - | J39: - | K39: - | L39: - | M39: - | N39: - | O39: - | P39: - | Q39: - | R39: -
A40: Diferencias de cambio (+/-) | B40: - | C40: - | D40: - | E40: - | F40: - | G40: - | H40: - | I40: - | J40: - | K40: - | L40: - | M40: - | N40: - | O40: - | P40: - | Q40: - | R40: -
...

Sheet PyG anual
B1: 44561 | C1: 44926 | D1: 45291 | E1: 45657 | F1: 46022
A2: Intereses y rendimientos asimilados | B2: 0 | C2: 0 | D2: 2284.08 | E2: 19868.62 | F2: 97291.26
A3: Intereses y cargas asimiladas (-) | B3: -39027.42 | C3: -46721.86 | D3: -38083.18 | E3: -61928.53 | F3: -56796.6
A4: MARGEN DE INTERESES (+/-) | B4: -39027.42 | C4: -46721.86 | D4: -35799.1 | E4: -42059.91 | F4: 40494.66
A5: Rendimiento de instrumentos de capital | B5: 0 | C5: 0 | D5: 0 | E5: 0 | F5: 0
A6: Resultado de entidades valoradas por el método de participación (+/-) | B6: 0 | C6: 0 | D6: 0 | E6: 0 | F6: 0
A7: Comisiones percibidas | B7: 2821219.5 | C7: 3931909.1 | D7: 4843659.2 | E7: 6610518.2 | F7: 9420747
A8: Comisiones pagadas (-) | B8: 0 | C8: 0 | D8: 0 | E8: 0 | F8: 0
A9: Resultado de operaciones financieras (neto) (+/-) | B9: 10747.06 | C9: 1397 | D9: -10088.12 | E9: 109217.43 | F9: 2390.62
A10: Cartera negociación (+/-) | B10: 40.33 | C10: 0 | D10: 106.02 | E10: 39.26 | F10: 362.48
A11: Otros instrumentos financieros a valor razonable con cambios en pérdidas y ganancias (+/-) | B11: 10706.73 | C11: 1397 | D11: -10194.14 | E11: 109178.17 | F11: 2028.14
A12: Instrumentos financieros no valorados a valor razonable con cambios en pérdidas y ganancias (+/-) | B12: 0 | C12: 0 | D12: 0 | E12: 0 | F12: 0
A13: Otros (+/-) | B13: 0 | C13: 0 | D13: 0 | E13: 0 | F13: 0
... A41: Básico | B41: 0.018835297 | C41: 0.027 | D41: 0.028 | E41: 0.052740829 | F41: 0.16307661
A42: Diluido | B42: - | C42: 0 | D42: 0 | E42: 0 | F42: 0

Sheet PyG 9 meses
B1: 9M-2023 | C1: 9M-2024 | D1: 9M-2025 | E1: 9M-2026*
A2: Intereses y rendimientos asimilados | B2: 1002.55 | C2: 13373.49 | D2: 26820.89 | E2: 30363.51
A3: Intereses y cargas asimiladas (-) | B3: -17404.3 | C3: -36219.82 | D3: -43326.68 | E3: -43715.032
A4: MARGEN DE INTERESES (+/-) | B4: -16401.75 | C4: -22846.33 | D4: -16505.79 | E4: -13351.522
A5: Rendimiento de instrumentos de capital | B5: 0 | C5: 0 | D5: 0 | E5: 0
A6: Resultado de entidades valoradas por el método de participación (+/-) | B6: 0 | C6: 0 | D6: 0 | E6: 0
A7: Comisiones percibidas | B7: 3502101.8 | C7: 4710221.3 | D7: 6588075 | E7: 10398034
A8: Comisiones pagadas (-) | B8: 0 | C8: 0 | D8: 0 | E8: 0
A9: Resultado de operaciones financieras (neto) (+/-) | B9: 2106.28 | C9: 113913.56 | D9: 511.41 | E9: 10631.58
A10: Cartera negociación (+/-) | B10: 16.51 | C10: 42.58 | D10: 146.65 | E10: 144.09
A11: Otros instrumentos financieros a valor razonable con cambios en pérdidas y ganancias (+/-) | B11: 2089.77 | C11: 113870.98 | D11: 364.76 | E11: 0
A12: Instrumentos financieros no valorados a valor razonable con cambios en pérdidas y ganancias (+/-) | B12: 0 | C12: 0 | D12: 0 | E12: 0
A13: Otros (+/-) | B13: 0 | C13: 0 | D13: 0 | E13: 10487.49
... A42: Diluido | B42: 0 | C42: 0 | D42: 0 | E42: 0
A44: Nota: desde el 30/06/2026 son cuentas bajo IFRS

Sheet PyG semestral
B1: S1-2022 | C1: S2-2022 | D1: S1-2023 | E1: S2-2023 | F1: S1-2024 | G1: S2-2024 | H1: S1-2025 | I1: S2-2025 | J1: S1-2026*
A2: Intereses y rendimientos asimilados | B2: 0 | C2: 0 | D2: 0 | E2: 2284.08 | F2: 5888.92 | G2: 13979.7 | H2: 17208.88 | I2: 80082.38 | J2: 17430.84
A3: Intereses y cargas asimiladas (0) | B3: 938.73 | C3: ='PyG anual'!C3-'PyG semestral'!B3 -> -47660.59 | D3: -14978.37 | E3: -23104.81 | F3: -20311.35 | G3: -41617.18 | H3: -32209.97 | I3: -24586.63 | J3: -20112.44
A4: MARGEN DE INTERESES (+/-) | B4: -938.73 | C4: ='PyG anual'!C4-'PyG semestral'!B4 -> -45783.13 | D4: -14978.37 | E4: -20820.73 | F4: -14422.43 | G4: -27637.48 | H4: -15001.09 | I4: 55495.75 | J4: =J2+J3 -> -2681.6
A5: Rendimiento de instrumentos de capital | B5: 0 | C5: 0 | D5: 0 | E5: 0 | F5: 0 | G5: 0 | H5: 0 | I5: 0 | J5: 0
A6: Resultado de entidades valoradas por el método de participación (+/-) | B6: 0 | C6: 0 | D6: 0 | E6: 0 | F6: 0 | G6: 0 | H6: 0 | I6: 0 | J6: 0
A7: Comisiones percibidas | B7: 1918620.6 | C7: ='PyG anual'!C7-'PyG semestral'!B7 -> 2013288.5 | D7: 2276271.9 | E7: 2567387.3 | F7: 2992881.3 | G7: 3617636.9 | H7: 4204157.2 | I7: 5216589.7 | J7: 6375458
A8: Comisiones pagadas (-) | B8: 0 | C8: 0 | D8: 0 | E8: 0 | F8: 0 | G8: 0 | H8: 0 | I8: 0 | J8: 0
A9: Resultado de operaciones financieras (neto) (+/-) | B9: 1138.7 | C9: ='PyG anual'!C9-'PyG semestral'!B9 -> 258.3 | D9: 1989 | E9: -12077.12 | F9: 310.8 | G9: 108906.63 | H9: 403.54 | I9: 1987.08 | J9: 0
A10: Cartera negociación (+/-) | B10: 0 | C10: 0 | D10: 16.1 | E10: 89.92 | F10: 2.18 | G10: 37.08 | H10: 146.65 | I10: 215.83 | J10: 0
A11: Otros instrumentos financieros a valor razonable con cambios en pérdidas y ganancias (+/-) | B11: 1138.7 | C11: ='PyG anual'!C11-'PyG semestral'!B11 -> 258.3 | D11: 1972.9 | E11: -12167.04 | F11: 308.62 | G11: 108869.55 | H11: 256.89 | I11: 1771.25 | J11: 0
A12: Instrumentos financieros no valorados a valor razonable con cambios en pérdidas y ganancias (+/-) | B12: 0 | C12: 0 | D12: 0 | E12: 0 | F12: 0 | G12: 0 | H12: 0 | I12: 0 | J12: 0
A13: Otros (+/-) | B13: 0 | C13: 0 | D13: 0 | E13: 0 | F13: 0 | G13: 0 | H13: 0 | I13: 0 | J13: 0
A14: Diferencias de cambio (neto) (+/-) | B14: -910.05 | C14: ='PyG anual'!C14-'PyG semestral'!B14 -> -168.45 | D14: -217.01 | E14: -282.66 | F14: -3.76 | G14: 0 | H14: 412.4 | I14: -5.12 | J14: -37.58
A15: Otros productos de explotación | B15: 2222.17 | C15: ='PyG anual'!C15-'PyG semestral'!B15 -> 11706.79 | D15: 14508.51 | E15: 13085.94 | F15: 2015.33 | G15: 7163.19 | H15: 8099.73 | I15: 19728.08 | J15: 58045.55
A16: Otras cargas de explotación (-) | B16: -134176.06 | C16: ='PyG anual'!C16-'PyG semestral'!B16 -> -134176.03 | D16: -151471.98 | E16: -151472 | F16: -43265.34 | G16: -43265.34 | H16: -113771.09 | I16: -113771.13 | J16: -171860.76
A17: MARGEN BRUTO (+/-) | B17: 1785956.6 | C17: ='PyG anual'!C17-'PyG semestral'!B17 -> 1845126 | D17: 2126102.1 | E17: 2395820.7 | F17: 2937515.9 | G17: 3662803.9 | H17: 4084300.7 | I17: 5180024.4 | J17: =SUM(J4,J5,J6,J7,J8,J9,J14,J15,J16) -> 6258923.6
A18: Gastos de personal (-) | B18: -683086.35 | C18: ='PyG anual'!C18-'PyG semestral'!B18 -> -733444.62 | D18: -852665.21 | E18: -897916.75 | F18: -1237311.1 | G18: -1163683.3 | H18: -1417531.8 | I18: -1335133.6 | J18: -1443259
A19: Gastos generales (-) | B19: -697039.22 | C19: ='PyG anual'!C19-'PyG semestral'!B19 -> -968681.81 | D19: -1006090.7 | E19: -1055638.2 | F19: -1243875.1 | G19: -1649802.7 | H19: -1382272.5 | I19: -1794620.4 | J19: -2161512.5
A20: Amortización (-) | B20: -78109.92 | C20: ='PyG anual'!C20-'PyG semestral'!B20 -> -75146.37 | D20: -60752.27 | E20: -40642.62 | F20: -27872.05 | G20: -38625.514 | H20: -30279.74 | I20: -32300.022 | J20: -66794.76
A21: Dotaciones a provisiones (neto) (+/-) | B21: 0 | C21: 0 | D21: 0 | E21: 0 | F21: 0 | G21: 0 | H21: 0 | I21: 0 | J21: 0
A22: Pérdidas por deterioro de activos financieros (neto) (+/-) | B22: 0 | C22: 0 | D22: 0 | E22: 0 | F22: 0 | G22: 0 | H22: 0 | I22: 0 | J22: 0
A23: Inversiones crediticias (+/-) | B23: 0 | C23: 0 | D23: 0 | E23: 0 | F23: 0 | G23: 0 | H23: 0 | I23: 0 | J23: 0
A24: Otros Instrumentos financieros no valorados a valor razonable con cambios en pérdidas y ganancias (+/-) | B24: 0 | C24: 0 | D24: 0 | E24: 0 | F24: 0 | G24: 0 | H24: 0 | I24: 0 | J24: 0
A25: RESULTADO DE LA ACTIVIDAD DE EXPLOTACION (+/-) | B25: 327721.09 | C25: ='PyG anual'!C25-'PyG semestral'!B25 -> 67853.2 | D25: 206593.92 | E25: 401623.11 | F25: 428457.7 | G25: 810692.34 | H25: 1254216.7 | I25: 2017970.4 | J25: =SUM(J17,J18,J19,J20,J21,J22) -> 2587357.3
A26: Pérdidas por deterioro del resto de activos (neto) (+/-) | B26: 0 | C26: 0 | D26: 0 | E26: 0 | F26: 0 | G26: 0 | H26: 0 | I26: 0 | J26: 0
A27: Activos materiales (+/-) | B27: 0 | C27: 0 | D27: 0 | E27: 0 | F27: 0 | G27: 0 | H27: 0 | I27: 0 | J27: 0
A28: Activos intangibles (+/-) | B28: 0 | C28: 0 | D28: 0 | E28: 0 | F28: 0 | G28: 0 | H28: 0 | I28: 0 | J28: 0
A29: Resto (+/-) | B29: 0 | C29: 0 | D29: 0 | E29: 0 | F29: 0 | G29: 0 | H29: 0 | I29: 0 | J29: 0
A30: Ganancias/(Pérdidas) en la baja de activos no clasificados como no corrientes en venta (+/-) | B30: 0 | C30: 0 | D30: 0 | E30: 0 | F30: 0 | G30: 0 | H30: 0 | I30: 0 | J30: 0
A31: Diferencia negativa en combinaciones de negocios | B31: 0 | C31: 0 | D31: 0 | E31: 0 | F31: 0 | G31: 0 | H31: 0 | I31: 0 | J31: 0
A32: Ganancias/(Pérdidas) de activos no corrientes en venta no clasificados como operaciones interrumpidas (+/-) | B32: 0 | C32: 0 | D32: 0 | E32: 0 | F32: 0 | G32: 0 | H32: 0 | I32: 0 | J32: 0
A33: RESULTADO ANTES DE IMPUESTOS (+/-) | B33: 327721.09 | C33: ='PyG anual'!C33-'PyG semestral'!B33 -> 67853.2 | D33: 206593.92 | E33: 401623.11 | F33: 428457.7 | G33: 810692.34 | H33: 1254216.7 | I33: 2017970.4 | J33: =SUM(J25,J26,J30,J31,J32) -> 2587357.3
A34: Impuesto sobre beneficios (+/-) | B34: 0 | C34: 0 | D34: 0 | E34: -199534.04 | F34: -227196.42 | G34: -246959.09 | H34: -332118.56 | I34: -566514.56 | J34: -647519.07
A35: RESULTADO DEL EJERCICIO PROCEDENTE OPERACIONES CONTINUADAS (+/-) | B35: 327721.09 | C35: ='PyG anual'!C35-'PyG semestral'!B35 -> 67853.2 | D35: 206593.92 | E35: 202089.07 | F35: 201261.28 | G35: 563733.25 | H35: 922098.14 | I35: 1451455.8 | J35: =J33+J34 -> 1939838.2
A36: Resultado de operaciones interrumpidas (neto) (+/-) | B36: 0 | C36: 0 | D36: 0 | E36: 0 | F36: 0 | G36: 0 | H36: 0 | I36: 0 | J36: 0
A37: RESULTADO CONSOLIDADO DEL EJERCICIO (+/-) | B37: 327721.09 | C37: ='PyG anual'!C37-'PyG semestral'!B37 -> 67853.2 | D37: 206593.92 | E37: 202089.07 | F37: 201261.28 | G37: 563733.25 | H37: 922098.14 | I37: 1451455.8 | J37: =SUM(J35,J36) -> 1939838.2
A38: Resultado atribuido a la entidad dominante (+/-) | B38: 327721.09 | C38: ='PyG anual'!C38-'PyG semestral'!B38 -> 67853.2 | D38: 206593.92 | E38: 202089.07 | F38: 201261.28 | G38: 563733.25 | H38: 922098.14 | I38: 1451455.8 | J38: =J37-SUM(J39) -> 1939838.2
A39: Resultado atribuido a intereses minoritarios (+/-) | B39: 0 | C39: 0 | D39: 0 | E39: 0 | F39: 0 | G39: 0 | H39: 0 | I39: 0 | J39: 0
A40: BENEFICIO POR ACCION | B40: 0.023 | C40: ='PyG anual'!C40-'PyG semestral'!B40 -> 0.004 | D40: 0.014 | E40: 0.014 | F40: 0.013834007 | G40: 0.038906822 | H40: 0.063 | I40: 0.09972324 | J40: 0.13278945
...

Sheet PyG trimestral
B1: T1-2023 | C1: T2-2023 | D1: T3-2023 | E1: T4-2023 | F1: T1-2024 | G1: T2-2024 | H1: T3-2024 | I1: T4-2024 | J1: T1-2025 | K1: T2-2025 | L1: T3-2025 | M1: T4-2025 | N1: T1-2026 | O1: T2-2026* | P1: T3-2026
A2: Intereses y rendimientos asimilados | B2: 0 | C2: 0 | D2: 1002.55 | E2: 1281.53 | F2: 1053.39 | G2: 4835.53 | H2: 7484.57 | I2: 6495.13 | J2: 9839.13 | K2: 7369.75 | L2: 9612.01 | M2: 70470.37 | N2: 15730.46 | O2: 1700.38 | P2: 12932.67
A3: Intereses y cargas asimiladas (-) | B3: -391.48 | C3: -14586.89 | D3: -2425.93 | E3: -20678.88 | F3: -7538.06 | G3: -12773.29 | H3: -15908.47 | I3: -25708.71 | J3: -9925.35 | K3: -22284.62 | L3: -11116.71 | M3: -13469.92 | N3: -16132 | O3: -3980.44 | P3: -23602.592
A4: MARGEN DE INTERESES (+/-) | B4: -391.48 | C4: -14586.89 | D4: -1423.38 | E4: -19397.35 | F4: -6484.67 | G4: -7937.76 | H4: -8423.9 | I4: -19213.58 | J4: -86.22 | K4: -14914.87 | L4: -1504.7 | M4: 57000.45 | N4: -401.54 | O4: -2280.06 | P4: -10669.922
A5: Rendimiento de instrumentos de capital | B5: 0 | C5: 0 | D5: 0 | E5: 0 | F5: 0 | G5: 0 | H5: 0 | I5: 0 | J5: 0 | K5: 0 | L5: 0 | M5: 0 | N5: 0 | O5: 0 | P5: 0
A6: Resultado de entidades valoradas por el método de participación (+/-) | B6: 0 | C6: 0 | D6: 0 | E6: 0 | F6: 0 | G6: 0 | H6: 0 | I6: 0 | J6: 0 | K6: 0 | L6: 0 | M6: 0 | N6: 0 | O6: 0 | P6: 0
A7: Comisiones percibidas | B7: 1036517.5 | C7: 1239754.4 | D7: 1225829.9 | E7: 1341557.4 | F7: 1421358.8 | G7: 1571522.5 | H7: 1717340 | I7: 1900296.9 | J7: 2079448.1 | K7: 2124709.1 | L7: 2383917.7 | M7: 2832672 | N7: 2923070.1 | O7: 3452387.9 | P7: 4022576.4
A8: Comisiones pagadas (-) | B8: 0 | C8: 0 | D8: 0 | E8: 0 | F8: 0 | G8: 0 | H8: 0 | I8: 0 | J8: 0 | K8: 0 | L8: 0 | M8: 0 | N8: 0 | O8: 0 | P8: 0
A9: Resultado de operaciones financieras (neto) (+/-) | B9: 0 | C9: 1989 | D9: 117.28 | E9: -12194.4 | F9: -174.32 | G9: 485.12 | H9: 113602.76 | I9: -4696.13 | J9: 285.14 | K9: 118.4 | L9: 107.87 | M9: 1879.21 | N9: 143.89 | O9: -143.89 | P9: 10631.58
A10: Cartera negociación (+/-) | B10: 0 | C10: 16.1 | D10: 0.41 | E10: 89.51 | F10: 0.13 | G10: 2.05 | H10: 40.4 | I10: -3.32 | J10: 146.65 | K10: 0 | L10: 0 | M10: 215.83 | N10: 0 | O10: 0 | P10: 144.09
A11: Otros instrumentos financieros a valor razonable con cambios en pérdidas y ganancias (+/-) | B11: 0 | C11: 1972.9 | D11: 116.87 | E11: -12283.91 | F11: -174.45 | G11: 483.07 | H11: 113562.36 | I11: -4692.81 | J11: 138.49 | K11: 118.4 | L11: 107.87 | M11: 1663.38 | N11: 143.89 | O11: -143.89 | P11: 0
A12: Instrumentos financieros no valorados a valor razonable con cambios en pérdidas y ganancias (+/-) | B12: 0 | C12: 0 | D12: 0 | E12: 0 | F12: 0 | G12: 0 | H12: 0 | I12: 0 | J12: 0 | K12: 0 | L12: 0 | M12: 0 | N12: 0 | O12: 0 | P12: 0
A13: Otros (+/-) | B13: 0 | C13: 0 | D13: 0 | E13: 0 | F13: 0 | G13: 0 | H13: 0 | I13: 0 | J13: 0 | K13: 0 | L13: 0 | M13: 0 | N13: 0 | O13: 0 | P13: 10487.49
... A42: Diluido | B42: 0 | C42: 0 | D42: 0 | E42: 0 | F42: 0 | G42: 0 | H42: 0 | I42: 0 | J42: 0 | K42: 0 | L42: 0 | M42: 0 | N42: 0 | O42: 0 | P42: 0
A46: *Nota: desde el T2-2026 son cuentas bajo IFRS

Sheet Flujos anual
B1: 2021 | C1: 2022 | D1: 2023 | E1: 2024 | F1: 2025
A2: 1.FLUJO DE EFECTIVO DE LAS ACTIVIDADES DE EXPLOTACIÓN (+/-) | B2: 733.07 | C2: 520891.34 | D2: 403600.35 | E2: 529647.82 | F2: 2057314.1
A3: Resultado del ejercicio (+/-) antes de Impuestos | B3: 274021.55 | C3: 395574.29 | D3: 608217.03 | E3: 1239150 | F3: 3272187.1
A4: Ajustes para obtener los flujos de efectivo de las actividades de explotación (+/-) | B4: 193086.47 | C4: 193057.13 | D4: 127565.86 | E4: 1851.8642 | F4: 125135.48
A5: Amortización | B5: 161200.02 | C5: 153256.29 | D5: 101394.89 | E5: 66497.564 | F5: 62579.76
A6: Dotaciones netas a provisiones para riesgos | B6: 0 | C6: 0 | D6: 0 | E6: 0 | F6: 0
A7: Pérdidas por deterioro de instrumentos financieros | B7: 0 | C7: 0 | D7: 0 | E7: 0 | F7: 0
A8: Resultado de entidades valoradas por el método de la participación (+/-) | B8: 0 | C8: 0 | D8: 0 | E8: 0 | F8: 0
A9: Imputación de subvenciones (–) | B9: -7074.76 | C9: -7500 | D9: -10000 | E9: 0 | F9: 0
A10: Ingresos financieros (–). | B10: -40.33 | C10: -499.52 | D10: -2411.88 | E10: -109217.43 | F10: -2390.62
A11: Gastos financieros (+). | B11: 39027.42 | C11: 46721.86 | D11: 38083.18 | E11: 61928.53 | F11: 56796.6
A12: Diferencias de cambio (+/–). | B12: -25.88 | C12: 1078.5 | D12: 499.67 | E12: 3.76 | F12: -407.28
A13: Variación de valor razonable en instrumentos financieros (+/–) | B13: 0 | C13: 0 | D13: 0 | E13: -17360.56 | F13: 8557.02
... A35: Activos no corrientes y pasivos asociados en venta | B35: 0 | C35: 0 | D35: 0 | E35: 0 | F35: 0
A36: Otros activos financieros | F36: -300000
A37: Efectos en actividades de inversión de combinación de negocios | B37: 0 | C37: 0 | D37: 0 | E37: 0 | F37: 0
A38: Cobros inversión (+) | B38: 21877.67 | C38: 6565.5 | D38: 13376.95 | E38: 153662.56 | F38: 0
A39: Cartera de inversión a vencimiento | B39: 0 | C39: 0 | D39: 0 | E39: 0 | F39: 0
A40: Participaciones | B40: 0 | C40: 0 | D40: 12500 | E40: 153662.56 | F40: 0
A41: Activos materiales | B41: 0 | C41: 0 | D41: 876.95 | E41: 0 | F41: 0
A42: Activos intangibles | B42: 0 | C42: 0 | D42: 0 | E42: 0 | F42: 0
A43: Entidades dependientes y otras unidades de negocio | B43: 0 | C43: 0 | D43: 0 | E43: 0 | F43: 0
A44: Activos no corrientes y pasivos asociados en venta | B44: 21877.67 | C44: 6565.5 | D44: 0 | E44: 0 | F44: 0
A45: Otros cobros relacionados con actividades de inversión | B45: - | C45: - | D45: 0 | E45: 0 | F45: 0
A46: 3.FLUJOS DE EFECTIVO DE LAS ACTIVIDADES DE FINANCIACION (+/-) | B46: 246000 | C46: 82484.4 | D46: 13390.37 | E46: 31280.73 | F46: -250751.3
A47: Pagos financiación (-) | B47: 0 | C47: 0 | D47: 0 | E47: -411843.55 | F47: -250751.3
A48: Amortización instrumentos de patrimonio | B48: 0 | C48: 0 | D48: 0 | E48: 0 | F48: 0
A49: Adquisición instrumentos de capital propio | B49: 0 | C49: 0 | D49: 0 | E49: -9358.35 | F49: -139705.9
A50: Devolución y amortización obligaciones y otros valores negociables | B50: 0 | C50: 0 | D50: 0 | E50: 0 | F50: 0
A51: Devolución y amortización de pasivos subordinados, préstamos y otras financiaciones recibidas | B51: 0 | C51: 0 | D51: 0 | E51: -402485.2 | F51: -111045.4
A52: Cobros financiación (+) | B52: 246000 | C52: 82484.4 | D52: 13390.37 | E52: 443124.28 | F52: 0
A53: Emisión instrumentos de patrimonio | B53: 46000 | C53: 0 | D53: 0 | E53: 0 | F53: 0
A54: Emisión y enajenación de instrumentos de capital propio | B54: 0 | C54: 82484.4 | D54: 0 | E54: 0 | F54: 0
A55: Emisión obligaciones y otros valores negociables | B55: 0 | C55: 0 | D55: 0 | E55: 0 | F55: 0
A56: Emisión de pasivos subordinados, préstamos y otras financiaciones | B56: 200000 | C56: - | D56: 13390.37 | E56: 443124.28 | F56: 0
A57: Dividendos pagados y remuneración de otros instrumentos de patrimonio (-) | B57: 0 | C57: 0 | D57: 0 | E57: 0 | F57: 0
A58: 4. Efecto de las variaciones de los tipos de cambio en el efectivo y equivalentes de efectivo | B58: - | C58: - | D58: - | E58: - | F58: -
A59: 5.AUMENTO (DISMINUCION) NETA DEL EFECTIVO Y EQUIVALENTES DE EFECTIVO (1+2+3+4) | B59: 137618.71 | C59: 345469.96 | D59: 386612.91 | E59: -53508.273 | F59: 1069906.5
A60: Efectivo y equivalentes de efectivo al inicio del ejercicio | B60: 850746.67 | C60: 988365.38 | D60: 1333835.3 | E60: 1720448.3 | F60: 1666940
A61: Efectivo y equivalentes de efectivo al final del ejercicio | B61: 988365.38 | C61: 1333835.3 | D61: 1720448.2 | E61: 1666940 | F61: 2736846.4

Sheet Flujos semestral
B1: S1-2022 | C1: S1-2023 | D1: S1-2024 | E1: S1-2025 | F1: S1-2026*
A2: 1.FLUJO DE EFECTIVO DE LAS ACTIVIDADES DE EXPLOTACIÓN (+/-) | B2: 338006.11 | C2: 334741.11 | D2: 236253.34 | E2: 993805.8 | F2: 1374364.6
A3: Resultado del ejercicio (+/-) antes de Impuestos | B3: 327721.09 | C3: 206593.92 | D3: 428457.7 | E3: 1254216.7 | F3: 2587357.3
A4: Ajustes para obtener los flujos de efectivo de las actividades de explotación (+/-) | B4: 78820 | C4: 63958.65 | D4: 41460.05 | E4: 74588.686 | F4: 83478
A5: Amortización | B5: 78109.92 | C5: 60752.27 | D5: 27872.05 | E5: 30279.736 | F5: 66794.76
A6: Imputación de subvenciones (–) | B6: 0 | C6: -10000 | D6: 0 | F6: 0
A7: Ingresos financieros (–). | B7: -1138.7 | C7: -1989 | D7: -310.8 | E7: -403.54 | F7: -1197.83
A8: Gastos financieros (+). | B8: 938.73 | C8: 14978.37 | D8: 20311.35 | E8: 32209.97 | F8: 20112.44
A9: Diferencias de cambio (+/–). | B9: 910.05 | C9: 217.01 | D9: 3.76 | E9: -412.4 | F9: 37.58
A10: Variación de valor razonable en instrumentos financieros (+/–) | B10: 0 | C10: 0 | D10: -6416.31 | E10: 12914.92 | F10: -2268.95
A11: Resultado Ajustado (+/-) | B11: 406541.09 | C11: 270552.57 | D11: 469917.75 | E11: 1328805.4 | F11: 2670835.3
A12: Aumento(disminución) neta en los activos de explotación (+/-) | B12: -27065.13 | C12: -26718.78 | D12: -446943.76 | E12: -573907.18 | F12: -1144939.5
A13: Inversiones crediticias | B13: -94798.42 | C13: -99162.31 | D13: -241114.68 | E13: -204946.9 | F13: -840011.9
A14: Cartera de negociación | B14: 0 | C14: 0 | D14: 0 | F14: 0
A15: Otros Activos financieros a valor razonable con cambios en pérdidas y ganancias | B15: -1138.7 | C15: -1972.9 | D15: -308.62 | E15: -256.89 | F15: 0
A16: Otros Activos financieros a valor razonable con cambios en pérdidas y ganancias | B16: -2559.3 | C16: -5013.31 | D16: -258721.82 | E16: -15242.75 | F16: 0
A17: Otros activos de explotación | B17: 71431.29 | C17: 79429.74 | D17: 53201.36 | E17: -353460.64 | F17: -304927.61
A18: Aumento (disminución) neta en los pasivos de explotación (+/-) | B18: -41469.85 | C18: 90907.32 | D18: 213279.35 | E18: 238907.59 | F18: -81210.72
A19: Pasivos financieros a coste amortizado | B19: -88240.2 | C19: 40216.72 | D19: 253779.86 | E19: -674291.95 | F19: 131588.1
A20: Otros pasivos de explotación | B20: 46770.35 | C20: 50674.5 | D20: -40502.69 | E20: 913052.89 | F20: -212798.82
A21: Dividendo | B21: 0 | C21: 16.1 | D21: 2.18 | E21: 146.65 | F21: 0
A22: Cobros/pagos por impuesto sobre beneficios | F22: -70320.42
A23: 2. FLUJOS DE EFECTIVO DE LAS ACTIVIDADES DE INVERSIÓN (+/-) | B23: -221997.9 | C23: -46438.67 | D23: -204808.16 | E23: -145334.27 | F23: -762031.35
A24: Pagos inversión (-) | B24: -221997.9 | C24: -46438.67 | D24: -204808.16 | E24: -145334.27 | F24: -762031.35
A25: Cartera de inversión a vencimiento | F25: -716338.73
A26: Participaciones | B26: -128838.06 | C26: -4185.8 | D26: 0 | E26: -110300 | F26: 0
A27: Activos materiales | B27: -80224.94 | C27: -22581.22 | D27: -7882.1593 | F27: -45692.62
A28: Activos intangibles | B28: -12934.9 | C28: -19671.65 | D28: 0 | E28: -3994.7424 | F28: 0
A29: Entidades dependientes y otras unidades de negocio | B29: 0 | C29: 0 | D29: -196926 | E29: -31039.525 | F29: 0
A30: Otros activos financieros | B30: 0 | C30: 0 | D30: 0 | E30: 0 | F30: 0
A31: Cobros inversión (+) | B31: 0 | C31: 0 | D31: 0 | E31: 0 | F31: 0
A32: 3.FLUJOS DE EFECTIVO DE LAS ACTIVIDADES DE FINANCIACION (+/-) | B32: 82484.4 | C32: -253622 | D32: -430786.65 | E32: -565169.95 | F32: -605941.66
A33: Pagos financiación (-) | B33: 0 | C33: -253622 | D33: -430786.65 | E33: -565169.95 | F33: -605941.66
A34: Amortización instrumentos de patrimonio | B34: 0 | C34: -253622 | D34: -266200 | E34: -25500 | F34: 0
A35: Adquisición instrumentos de capital propio | B35: 0 | C35: 0 | D35: -164586.65 | E35: -60280.3 | F35: -178912.92
A36: Devolución y amortización de pasivos subordinados, préstamos y otras financiaciones recibidas | E36: -479389.65 | F36: -427028.74
A37: Cobros financiación (+) | B37: 82484.4 | C37: 0 | D37: 0 | E37: 0 | F37: 0
A38: Emisión y enajenación de instrumentos de capital propio | B38: 82484.4 | C38: 0 | D38: 0 | E38: 0 | F38: 0
A39: 4. Efecto de las variaciones de los tipos de cambio en el efectivo y equivalentes de efectivo | B39: 0 | C39: 0 | D39: 0 | E39: 0 | F39: 0
A40: 5.AUMENTO (DISMINUCION) NETA DEL EFECTIVO Y EQUIVALENTES DE EFECTIVO (1+2+3+4) | B40: 198492.62 | C40: 34680.44 | D40: -399341.47 | E40: 283301.58 | F40: 6391.63
...

Sheet Datos para gráficos
A1: Trimestral (M€) | D1: ='PyG trimestral'!B1 -> T1-2023 | E1: ='PyG trimestral'!C1 -> T2-2023 | F1: ='PyG trimestral'!D1 -> T3-2023 | G1: ='PyG trimestral'!E1 -> T4-2023 | H1: ='PyG trimestral'!F1 -> T1-2024 | I1: ='PyG trimestral'!G1 -> T2-2024 | J1: ='PyG trimestral'!H1 -> T3-2024 | K1: ='PyG trimestral'!I1 -> T4-2024 | ... M1: ='PyG trimestral'!K1 -> T2-2025 | N1: T3-2025 | O1: T4-2025 | P1: T1-2026 | Q1: T2-2026 | R1: T3-2026 | S1: CAGR 2023-2026 | T1: 2026/2025
A2: Español | B2: English | C2: French | D2: Q1-2023 | E2: Q2-2023 | F2: Q3-2023 | G2: Q4-2023 | H2: Q1-2024 | I2: Q2-2024 | J2: Q3-2024 | K2: Q4-2024 | L2: Q1-2025 | M2: Q2-2025 | N2: Q3-2025 | O2: Q4-2025 | P2: Q1-2026 | Q2: Q2-2026 | R2: Q3-2026
A3: Comisiones percibidas (M€) | B3: Commissions earned (M€) | C3: Commissions perçues (M€) | D3: ='PyG trimestral'!B7/1000000 -> 1.0365175 | E3: ='PyG trimestral'!C7/1000000 -> 1.2397544 | F3: ='PyG trimestral'!D7/1000000 -> 1.2258298 | G3: ='PyG trimestral'!E7/1000000 -> 1.3415574 | H3: ='PyG trimestral'!F7/1000000 -> 1.4213588 | I3: ='PyG trimestral'!G7/1000000 -> 1.5715225 | J3: ='PyG trimestral'!H7/1000000 -> 1.71734 | K3: ='PyG trimestral'!I7/1000000 -> 1.9002969 | ... R3: ='PyG trimestral'!P7/1000000 -> 4.0225764 | S3: =(R3/F3)^(1/3)-1 -> 0.48602016 | T3: =R3/N3-1 -> 0.68738054
A4: Beneficio neto (M€) | B4: Net profit (M€) | C4: Bénéfice net (M€) | D4: ='PyG trimestral'!B37/1000000 -> 0.13262328 | E4: ='PyG trimestral'!C37/1000000 -> 0.07397064 | F4: ='PyG trimestral'!D37/1000000 -> 0.17764402 | G4: ='PyG trimestral'!E37/1000000 -> 0.02444505 | H4: ='PyG trimestral'!F37/1000000 -> 0.19541787 | I4: ='PyG trimestral'!G37/1000000 -> 0.00584341 | J4: ='PyG trimestral'!H37/1000000 -> 0.32451167 | K4: ='PyG trimestral'!I37/1000000 -> 0.23922158 | ... R4: ='PyG trimestral'!P37/1000000 -> 1.5660733 | S4: =(R4/F4)^(1/3)-1 -> 1.0657947 | T4: =R4/N4-1 -> 1.3440135
A5: Margen beneficio neto (%) | B5: Net profit margin (%) | C5: Marge bénéfice net (%) | D5: =D4/D3 -> 0.12795083 | E5: =E4/E3 -> 0.059665559 | F5: =F4/F3 -> 0.14491736 | G5: =G4/G3 -> 0.018221396 | H5: =H4/H3 -> 0.13748665 | I5: =I4/I3 -> 0.0037183114 | J5: =J4/J3 -> 0.18896181 | K5: =K4/K3 -> 0.12588642 | ... R5: =R4/R3 -> 0.38932096 | S5: =(R5/F5)^(1/3)-1 -> 0.39015255 | T5: =R5/N5-1 -> 0.38914338
A6: Crecimiento YoY comisiones | H6: =H3/D3-1 -> 0.37128298 | I6: =I3/E3-1 -> 0.26760791 | J6: =J3/F3-1 -> 0.40096114 | K6: =K3/G3-1 -> 0.41648566 | L6: =L3/H3-1 -> 0.46300012 | M6: =M3/I3-1 -> 0.35200679 | N6: =N3/J3-1 -> 0.38814547 | O6: =O3/K3-1 -> 0.49064709 | ... R6: =R3/N3-1 -> 0.68738054
A7: Crecimiento YoY beneficio neto | H7: =H4/D4-1 -> 0.4734809 | I7: =I4/E4-1 -> -0.92100366 | J7: =J4/F4-1 -> 0.82675257 | K7: =K4/G4-1 -> 8.7860949 | L7: =L4/H4-1 -> 1.567518 | M7: =M4/I4-1 -> 70.937316 | N7: =N4/J4-1 -> 1.0588355 | O7: =O4/K4-1 -> 2.2745359 | ... R7: =R4/N4-1 -> 1.3440135
A8: Crecimiento YoY margen beneficio neto | H8: =H5/D5-1 -> 0.074527231 | I8: =I5/E5-1 -> -0.93768078 | J8: =J5/F5-1 -> 0.30392808 | K8: =K5/G5-1 -> 5.9087144 | L8: =L5/H5-1 -> 0.75496775 | M8: =M5/I5-1 -> 52.207807 | N8: =N5/J5-1 -> 0.48315546 | O8: =O5/K5-1 -> 1.1967211 | ... R8: =R5/N5-1 -> 0.38914338

Sheet Graphs EN

Sheet Gráficos ES

Sheet Graphes FR
